BEGIN:VCALENDAR
VERSION:2.0
PRODID:-//Forum 3 e.V. - ECPv6.15.20//NONSGML v1.0//EN
CALSCALE:GREGORIAN
METHOD:PUBLISH
X-WR-CALNAME:Forum 3 e.V.
X-ORIGINAL-URL:https://www.forum3.de
X-WR-CALDESC:Veranstaltungen für Forum 3 e.V.
REFRESH-INTERVAL;VALUE=DURATION:PT1H
X-Robots-Tag:noindex
X-PUBLISHED-TTL:PT1H
BEGIN:VTIMEZONE
TZID:Europe/Berlin
BEGIN:DAYLIGHT
TZOFFSETFROM:+0100
TZOFFSETTO:+0200
TZNAME:CEST
DTSTART:20220327T010000
END:DAYLIGHT
BEGIN:STANDARD
TZOFFSETFROM:+0200
TZOFFSETTO:+0100
TZNAME:CET
DTSTART:20221030T010000
END:STANDARD
BEGIN:DAYLIGHT
TZOFFSETFROM:+0100
TZOFFSETTO:+0200
TZNAME:CEST
DTSTART:20230326T010000
END:DAYLIGHT
BEGIN:STANDARD
TZOFFSETFROM:+0200
TZOFFSETTO:+0100
TZNAME:CET
DTSTART:20231029T010000
END:STANDARD
BEGIN:DAYLIGHT
TZOFFSETFROM:+0100
TZOFFSETTO:+0200
TZNAME:CEST
DTSTART:20240331T010000
END:DAYLIGHT
BEGIN:STANDARD
TZOFFSETFROM:+0200
TZOFFSETTO:+0100
TZNAME:CET
DTSTART:20241027T010000
END:STANDARD
END:VTIMEZONE
BEGIN:VEVENT
DTSTART;VALUE=DATE:20230624
DTEND;VALUE=DATE:20230625
DTSTAMP:20260422T113522
CREATED:20180711T182823Z
LAST-MODIFIED:20230329T170620Z
UID:3996-1687564800-1687651199@www.forum3.de
SUMMARY:OPEN STAGE
DESCRIPTION:– Gesang & Instrumente\, Tanz\, Text & Ton\, Schauspiel\, Clownerie & Zauberei\n– Lust mitzumachen? Anmeldung: openstage@forum3.de\n– Beitragslänge: 10 Minuten\n– Lieber lauschen? Unser Café verschönert Dir den Abend mit leckerem Essen und Getränken \nEin Projekt der FSJ-ler des Forum 3 \nSa. 24.06.\, 20.00 Uhr \nForum Café\nEintritt frei\, Spenden willkommen!
URL:https://www.forum3.de/kurs/open-stage-freiraum/
CATEGORIES:Außer der Reihe,Von & Für junge Menschen
END:VEVENT
END:VCALENDAR