BEGIN:VCALENDAR
VERSION:2.0
PRODID:-//Forum 3 e.V. - ECPv6.15.20//NONSGML v1.0//EN
CALSCALE:GREGORIAN
METHOD:PUBLISH
X-ORIGINAL-URL:https://www.forum3.de
X-WR-CALDESC:Veranstaltungen für Forum 3 e.V.
REFRESH-INTERVAL;VALUE=DURATION:PT1H
X-Robots-Tag:noindex
X-PUBLISHED-TTL:PT1H
BEGIN:VTIMEZONE
TZID:Europe/Berlin
BEGIN:DAYLIGHT
TZOFFSETFROM:+0100
TZOFFSETTO:+0200
TZNAME:CEST
DTSTART:20250330T010000
END:DAYLIGHT
BEGIN:STANDARD
TZOFFSETFROM:+0200
TZOFFSETTO:+0100
TZNAME:CET
DTSTART:20251026T010000
END:STANDARD
BEGIN:DAYLIGHT
TZOFFSETFROM:+0100
TZOFFSETTO:+0200
TZNAME:CEST
DTSTART:20260329T010000
END:DAYLIGHT
BEGIN:STANDARD
TZOFFSETFROM:+0200
TZOFFSETTO:+0100
TZNAME:CET
DTSTART:20261025T010000
END:STANDARD
BEGIN:DAYLIGHT
TZOFFSETFROM:+0100
TZOFFSETTO:+0200
TZNAME:CEST
DTSTART:20270328T010000
END:DAYLIGHT
BEGIN:STANDARD
TZOFFSETFROM:+0200
TZOFFSETTO:+0100
TZNAME:CET
DTSTART:20271031T010000
END:STANDARD
END:VTIMEZONE
BEGIN:VEVENT
DTSTART;VALUE=DATE:20260428
DTEND;VALUE=DATE:20260708
DTSTAMP:20260420T120949
CREATED:20250711T074223Z
LAST-MODIFIED:20260324T103848Z
UID:16833-1777334400-1783468799@www.forum3.de
SUMMARY:Gitarrenunterricht – Anfänger*innen
DESCRIPTION:Mit Emanuel Cuadros de Bejar\nIn lockerer Gruppenatmosphäre lernt Ihr alle Grundlagen des Gitarrenspiels und der Musik. Harmonie\, Rhythmik\, Technik\, Stilistik und Freude an der Kreativität sind die Themen dieser Kurse. Voraussetzung: eigene Gitarre. \nAnfänger*innen\nDienstags\, 18.30–19.45 Uhr\nAb 28.04./ 8 Abende \nKosten je Kurs:\nSchüler*innen € 40/ normal 88/ erm. 64/ Förderpreis 120 \nKurs-Nr. 262R161
URL:https://www.forum3.de/kurs/gitarrenunterricht-anfaenger-2-2/
CATEGORIES:Reg.Musik,Regelmäßige Kurse
END:VEVENT
BEGIN:VEVENT
DTSTART;VALUE=DATE:20260428
DTEND;VALUE=DATE:20260708
DTSTAMP:20260420T120949
CREATED:20250711T074307Z
LAST-MODIFIED:20260324T092821Z
UID:16834-1777334400-1783468799@www.forum3.de
SUMMARY:Gitarrenunterricht – Mittelstufe
DESCRIPTION:Mit Emanuel Cuadros de Bejar\n \nIn lockerer Gruppenatmosphäre lernt Ihr alle Grundlagen des Gitarrenspiels und der Musik. Harmonie\, Rhythmik\, Technik\, Stilistik und Freude an der Kreativität sind die Themen dieser Kurse. \nVoraussetzung: eigene Gitarre. Für den Mittelstufen-Kurs außerdem: Kenntnis einfacher Begleitakkorde (C\, G\, D\, A\, E\, Am\, Em) und einfacher Schlagtechniken der rechten Hand. \nMittelstufe\nDienstags\, 20–21.15 Uhr\nAb 28.04./ 8 Abende \nKosten je Kurs:\nSchüler*innen € 40/ normal 88/ erm. 64/ Förderpreis 120 \nKurs-Nr. 262R162
URL:https://www.forum3.de/kurs/gitarrenunterricht-mittelstufe-2-2/
CATEGORIES:Reg.Musik,Regelmäßige Kurse
END:VEVENT
END:VCALENDAR