BEGIN:VCALENDAR
VERSION:2.0
PRODID:-//Forum 3 e.V. - ECPv6.15.20//NONSGML v1.0//EN
CALSCALE:GREGORIAN
METHOD:PUBLISH
X-WR-CALNAME:Forum 3 e.V.
X-ORIGINAL-URL:https://www.forum3.de
X-WR-CALDESC:Veranstaltungen für Forum 3 e.V.
REFRESH-INTERVAL;VALUE=DURATION:PT1H
X-Robots-Tag:noindex
X-PUBLISHED-TTL:PT1H
BEGIN:VTIMEZONE
TZID:Europe/Berlin
BEGIN:DAYLIGHT
TZOFFSETFROM:+0100
TZOFFSETTO:+0200
TZNAME:CEST
DTSTART:20240331T010000
END:DAYLIGHT
BEGIN:STANDARD
TZOFFSETFROM:+0200
TZOFFSETTO:+0100
TZNAME:CET
DTSTART:20241027T010000
END:STANDARD
BEGIN:DAYLIGHT
TZOFFSETFROM:+0100
TZOFFSETTO:+0200
TZNAME:CEST
DTSTART:20250330T010000
END:DAYLIGHT
BEGIN:STANDARD
TZOFFSETFROM:+0200
TZOFFSETTO:+0100
TZNAME:CET
DTSTART:20251026T010000
END:STANDARD
BEGIN:DAYLIGHT
TZOFFSETFROM:+0100
TZOFFSETTO:+0200
TZNAME:CEST
DTSTART:20260329T010000
END:DAYLIGHT
BEGIN:STANDARD
TZOFFSETFROM:+0200
TZOFFSETTO:+0100
TZNAME:CET
DTSTART:20261025T010000
END:STANDARD
END:VTIMEZONE
BEGIN:VEVENT
DTSTART;TZID=Europe/Berlin:20250505T193000
DTEND;TZID=Europe/Berlin:20250505T213000
DTSTAMP:20260422T174539
CREATED:20250403T134922Z
LAST-MODIFIED:20250403T182513Z
UID:16242-1746473400-1746480600@www.forum3.de
SUMMARY:Präsenz: Petra Neisse – Vom Zauber der Dinge
DESCRIPTION:Poetischer Abend mit Petra Neisse\, Lebensberatung\, Stuttgart\n \nWir sind im Alltag umgeben von einem Meer von Gebrauchsgegenständen und Dingen\, die uns erfreuen sollen. Viele besitzen wir nur eine kurze Zeit und mit einigen befinden wir uns in einer innigen Beziehung\, von der wir uns nur ungern lösen. An diesem Abend werden die Beziehungen zwischen Besitzer und Besitztum tiefsinnig beleuchtet und humorvoll zum Leben erweckt. \nMontag\, 5. Mai\n19.30–21.30 Uhr \nKosten:\nFörderbeitrag € 12/ normal 10/ Rentner*innen 8/ erm. 6/ bis 21 J. 2
URL:https://www.forum3.de/kurs/vom-zauber-der-dinge/
CATEGORIES:Vorträge
END:VEVENT
BEGIN:VEVENT
DTSTART;TZID=Europe/Berlin:20250509T193000
DTEND;TZID=Europe/Berlin:20250509T213000
DTSTAMP:20260422T174539
CREATED:20250403T135655Z
LAST-MODIFIED:20250403T183812Z
UID:16246-1746819000-1746826200@www.forum3.de
SUMMARY:Präsenz: Andreas Schleeh – Der Weg zum ICH – Wandlungsstufen der Seele
DESCRIPTION:Am Beispiel der kabbalistischen Lehrtafel in Bad Teinach \nVortrag\, Bilder und Gespräch mit Andreas Schleeh\, astrologischer Berater und Naturcoach\, Bad Wildbad \n \nJeden Tag stehen wir uns selbst und der Welt gegenüber\, ständig vor der Wahl: »Wie entscheide ich mich? Was ist zu tun?« Prinzessin Antonia von Württemberg und ihre Berater gestalteten hier in Stuttgart im 17. Jahrhundert ein Wandgemälde\, in dem der Mensch als Träger eines göttlichen Wesenskerns Entwicklungsstufen durchläuft\, hin zu seinem höchsten Ziel. Auf unvergleichliche Weise werden persönliche Anteile der Prinzessin mit biblischem Wissen\, wissenschaftlichen Aspekten\, christlich-mystischem Gedankengut und kabbalistisch-rosen-kreuzerischen Inhalten zu einem geheimnisvollen\, enzyklopädischen Gesamtkunstwerk verwoben. Das Gemälde stellt vor manche Rätsel\, um deren Entschlüsselung wir uns an diesem Abend bemühen. \nFreitag\, 9. Mai\, 19.30–21.30 Uhr \nKosten:\nFörderbeitrag € 12/ normal 10/ Rentner*innen 8/ erm. 6/ bis 21 J. 2 \n\n\n\nHier finden Sie den Hinweis zum entsprechenden Seminar am 10. Mai:\nDie kabbalistische Lehrtafel und die chymische Hochzeit\n\n\n\n— \nANDREAS SCHLEEH\, ausgebildeter Elektroniker\, B.A. Soziale Arbeit\, Sozialarbeiter in der beruflichen Erwachsenenbildung und psychosozialen Beratung\, Ausbildung in Geo-Kultur und Astrologie\, intensive Beschäftigung mit der Anthroposophie im Schwerpunkt übersinnliche Wahrnehmungsarbeit in Natur\, Landschaft und Kosmos.
URL:https://www.forum3.de/kurs/der-weg-zum-ich-wandlungsstufen-der-seele/
CATEGORIES:Vorträge
END:VEVENT
BEGIN:VEVENT
DTSTART;TZID=Europe/Berlin:20250512T193000
DTEND;TZID=Europe/Berlin:20250512T213000
DTSTAMP:20260422T174539
CREATED:20250403T142936Z
LAST-MODIFIED:20250403T200305Z
UID:16253-1747078200-1747085400@www.forum3.de
SUMMARY:Online: Stephan Illi – Alternativen zum Landgrabbing I Kulturland Genossenschaft
DESCRIPTION:Kulturland Genossenschaft\nNicht gleich die Welt retten – aber ein Stück Boden \nVortrag und Gespräch mit Stephan Illi\, Vorstandsmitglied der Kulturland eG und Berater für Organisationsentwicklung\, Bochum\n \nDie Kulturland-Genossenschaft holt Land aus der Spekulation. Sie befreit es vom Druck\, enorme Renditen erwirtschaften zu müssen. Stattdessen gibt sie es regional eingebundenen Demeter- und Biohöfen zur sorgsamen Bewirtschaftung – inzwischen sind es fast fünfzig Höfe.\nUnd das schöne dabei ist: wir alle\, Bürgerinnen und Bürger\, können das möglich machen\, und den Wandel hin zu mehr Regionalversorgung\, mehr Insektenvielfalt und sogar den Einstieg junger Menschen in die Landwirtschaft fördern. Ziele\, Arbeit und Herausforderungen dieser Genossenschaft wird Stephan Illi vorstellen. \nMontag\, 12. Mai\, 19.30–21.30 Uhr\nAuf Spendenbasis \nAnmeldung bis 09.05. unter: aktuelle-themen@forum3.de\nDen Link und die Bankverbindung schicken wir am Vortragsabend gegen 17 Uhr zu. \nSTEPHAN ILLI ist gelernter Landwirt\, Agraringenieur und Organisationsentwickler. Er hat viele Jahre im Demeter-Verband gearbeitet\, zuletzt als Vorstand des Bundesverbands. Seit elf Jahren ist er Vorstand der Kulturland-Genossenschaft und als selbstständiger Berater tätig.
URL:https://www.forum3.de/kurs/alternativen-zum-landgrabbing-i/
CATEGORIES:Vorträge
END:VEVENT
BEGIN:VEVENT
DTSTART;TZID=Europe/Berlin:20250516T173000
DTEND;TZID=Europe/Berlin:20250516T213000
DTSTAMP:20260422T174539
CREATED:20250403T143745Z
LAST-MODIFIED:20250403T204338Z
UID:16259-1747416600-1747431000@www.forum3.de
SUMMARY:Präsenz: Paula Kühne-Rendtorff – Mein Lebensthema erkunden und neue Impulse bekommen
DESCRIPTION:Selbstorientierung durch Biografiearbeit\n \nPraxisabend mit Impuls-Beiträgen und Übungen zur eigenen Biografie mit Paula Kühne Rendtorff\, Biografieberaterin und Dozentin für Philosophie in der Erwachsenenbildung\, Heidelberg\n \nDie Biografiearbeit bietet eine Vielzahl an Möglichkeiten\, die eigenen Lebensereignisse anzuschauen\, zu verstehen und dadurch neue Schritte in die Zukunft zu gehen. Auf ihrer Grundlage machen wir an diesem Abend mit praktischen Übungen erste Erfahrungen in Bezug auf unsere eigene Biografie. Methodisch angeleitet erkunden wir die ersten Jahre unseres Lebens und ihre Wirkung in die Gegenwart. In vertraulichen Zweier-Gruppen tauschen wir uns aus und reflektieren den Prozess gemeinsam in der Gesamtgruppe. Wir arbeiten mit\nkünst lerischen Methoden wie Malen\, achtsamem und fragendem Zuhören und weiteren Übungen aus der Biografiearbeit. \nFreitag\, 16. Mai 17.30–21.30 Uhr \nKosten:\nFörderbeitrag € 25/ normal 20/ Rentner*innen 15/ erm. 10/ bis 21 J. 4 \nEine Anmeldung ist erwünscht\, jedoch nicht notwendig. \nKurs-Nr. 252S202
URL:https://www.forum3.de/kurs/mein-lebensthema-erkunden-und-neue-impulse-bekommen-2/
CATEGORIES:Vorträge
END:VEVENT
BEGIN:VEVENT
DTSTART;TZID=Europe/Berlin:20250517T103000
DTEND;TZID=Europe/Berlin:20250517T113000
DTSTAMP:20260422T174539
CREATED:20250403T144745Z
LAST-MODIFIED:20250424T193416Z
UID:16266-1747477800-1747481400@www.forum3.de
SUMMARY:Friedenstag: Al Ahmad & Roknic – Der Weg von Raqqa nach Stuttgart
DESCRIPTION:Gespräch zwischen Hossam Al Ahmad aus Syrien und Lydia Roknic aus Deutschland\n \n \nPräsenzveranstaltung im Ramen des  Tages für den Frieden: \nHossam Al Ahmad aus Syrien\, seit zehn Jahren in Deutschland lebend\, berichtet von seinen inneren und äußeren Wegen im Umgang mit Krieg. Als junger Mensch erlebte er den Bürgerkrieg in Syrien. Und entschied sich früh\, einen friedvollen Weg ohne Gewalt zu gehen – sich also keiner der kämpfenden Gruppen anzuschließen. \nAnfangs schien das möglich – und auch schien möglich\, dem eigenen Leben nachzugehen und ein Studium zu beginnen. So studierte er in Raqqa\, damalige Hauptstadt des IS. Doch seine Entscheidungen entwickelten sich immer mehr zu einer Sackgasse. Die sich zuspitzende Situation in Syrien wurde zum Prüfstein\, machte er sich durch seinen friedvollen Weg doch immer mehr zu einem Gegner. \nWie und wohin ihn diese innere Ausgerichtetheit führte und führt – von Raqqa nach Stuttgart und bis heute\, darüber wird Hossam Al Ahmad im Gespräch mit Lydia Roknic sprechen. Im Mittelpunkt steht auch der ganz persönliche Umgang mit den Fragen: Wo beginnt Krieg? Wo beginnt Frieden? Wie begegnen wir dem Unbekannten\, dem Fremden? \nSamstag\, 17. Mai\nAuf Spendenbasis
URL:https://www.forum3.de/kurs/der-weg-von-raqqa-nach-stuttgart/
CATEGORIES:Vorträge
END:VEVENT
BEGIN:VEVENT
DTSTART;TZID=Europe/Berlin:20250517T143000
DTEND;TZID=Europe/Berlin:20250517T154500
DTSTAMP:20260422T174539
CREATED:20250403T144908Z
LAST-MODIFIED:20250417T121744Z
UID:16270-1747492200-1747496700@www.forum3.de
SUMMARY:Friedenstag: Sawa’ed & Sagie – Mensch werden in Palästina? Mensch werden in Israel?
DESCRIPTION:Gespräch zwischen den palästinensisch-israelischen Friedensaktivisten Amin Sawa’ed und Ofer Sagie. Moderation: Ulrich Morgenthaler.\n \nPräsenzveranstaltung im Ramen des Gemeinsamen Tages für den Frieden: \nAmin Sawaed ist Manager einer alternativen psychiatrischen Krankenhauseinrichtung für eine gemischte Bevölkerung. Er ist seit 40 Jahren Menschenrechts- und Friedensaktivist\, ehemaliger Waldorflehrer und Gründer der ersten arabischen Waldorfschule in Shafaram. Außerdem ist er Mitbegründer der Begegnungsstätte „Sha’ar laAdam – Bab lil’Insan“. \nOfer Sagie ist seit 1984 Teil der Friedensbewegung. Er lebte in dem anthroposophisch orientierten Kibbuz Harduf und arbeitet als Theaterregisseur und Waldorflehrer. Im Zentrum seines Anliegens steht angesichts der vielen Meinungen und Emotionen zu den palästinensisch-israelischen Konflikten die Frage: Was kann ICH tun? \nEin Umstand – neben vielen anderen – der die beiden verbindet ist: Das Land\, das dem Kibbuz Harduf Anfang der 80er-Jahre von der Regierung zum Siedeln übergeben wurde\, gehörte davor zum Beduinendorf Sawa’ed El-Homeira\, in dem Amin Sawaed als Sohn des Stammesoberhauptes aufgewachsen ist und auf dem er als Kind noch gespielt hat. Wurde den Beduinen bis dahin jeder mögliche Stein in den Weg gelegt\, wenn sie sich ihr Dorf mit Straßen\, Wasser und Elektrizität erschließen wollten\, wurde den neuen Siedlern jede nur mögliche Tür für ihre eigene Initiative weit geöffnet. Wie Amin und Ofer dennoch zu Freunden wurden\, wird eines der Themen sein\, über das sie sich austauschen werden. \nSamstag\, 17. Mai\, 14:30-15:45h\nAuf Spendenbasis
URL:https://www.forum3.de/kurs/mensch-werden-in-palaestina-mensch-werden-in-israel/
CATEGORIES:Vorträge
END:VEVENT
BEGIN:VEVENT
DTSTART;TZID=Europe/Berlin:20250517T160000
DTEND;TZID=Europe/Berlin:20250517T171500
DTSTAMP:20260422T174539
CREATED:20250403T145100Z
LAST-MODIFIED:20250411T163303Z
UID:16273-1747497600-1747502100@www.forum3.de
SUMMARY:Friedenstag: Ulrich Morgenthaler – Friedensmeditation
DESCRIPTION:Mit Ulrich Morgenthaler\, Forum 3.\n \nPräsenzveranstaltung im Ramen des Gemeinsamen Tages für den Frieden: \nDiese innere Meditationsarbeit wird getragen von dem Erleben\, dass unsere Gedanken und Gefühle als reale Kräfte in der Welt wirken und dass geistige Wesen\, die uns Menschen wohlwollend gesinnt sind\, uns dabei unterstützend begleiten. In diesem Sinne werden wir uns zu Beginn auf unsere eigenen Friedenskräfte besinnen – sowohl für unsere Erde und gemeinsame Menschheit\, als auch für unseren eigenen Lebensumkreis und für den Umgang mit uns selbst. Dann bieten wir unsere guten Wünsche und unsere Bitten um Heilung den Menschen an\, die uns am Herzen liegen – und seien es alle. Mit einem Dank für die Möglichkeit eines solchen Miteinander-Tuns beschließen wir die Meditation. \nSamstag\, 17. Mai\, 16:00-17:15h.\nAuf Spendenbasis
URL:https://www.forum3.de/kurs/friedensmeditation/
CATEGORIES:Vorträge
END:VEVENT
END:VCALENDAR