BEGIN:VCALENDAR
VERSION:2.0
PRODID:-//Forum 3 e.V. - ECPv6.15.20//NONSGML v1.0//EN
CALSCALE:GREGORIAN
METHOD:PUBLISH
X-ORIGINAL-URL:https://www.forum3.de
X-WR-CALDESC:Veranstaltungen für Forum 3 e.V.
REFRESH-INTERVAL;VALUE=DURATION:PT1H
X-Robots-Tag:noindex
X-PUBLISHED-TTL:PT1H
BEGIN:VTIMEZONE
TZID:Europe/Berlin
BEGIN:DAYLIGHT
TZOFFSETFROM:+0100
TZOFFSETTO:+0200
TZNAME:CEST
DTSTART:20240331T010000
END:DAYLIGHT
BEGIN:STANDARD
TZOFFSETFROM:+0200
TZOFFSETTO:+0100
TZNAME:CET
DTSTART:20241027T010000
END:STANDARD
BEGIN:DAYLIGHT
TZOFFSETFROM:+0100
TZOFFSETTO:+0200
TZNAME:CEST
DTSTART:20250330T010000
END:DAYLIGHT
BEGIN:STANDARD
TZOFFSETFROM:+0200
TZOFFSETTO:+0100
TZNAME:CET
DTSTART:20251026T010000
END:STANDARD
BEGIN:DAYLIGHT
TZOFFSETFROM:+0100
TZOFFSETTO:+0200
TZNAME:CEST
DTSTART:20260329T010000
END:DAYLIGHT
BEGIN:STANDARD
TZOFFSETFROM:+0200
TZOFFSETTO:+0100
TZNAME:CET
DTSTART:20261025T010000
END:STANDARD
END:VTIMEZONE
BEGIN:VEVENT
DTSTART;TZID=Europe/Berlin:20250404T193000
DTEND;TZID=Europe/Berlin:20250404T213000
DTSTAMP:20260422T191807
CREATED:20241210T155054Z
LAST-MODIFIED:20250130T211634Z
UID:15751-1743795000-1743802200@www.forum3.de
SUMMARY:Online: André Bleicher – Zum zweiten Mal »Trump!« – Und nun?
DESCRIPTION:Online-Vortrag und Diskussion mit Prof. Dr. rer. pol. André Bleicher\, Professor für Strategisches Management und Organisation\, Hochschule Biberach\n \n2025 steht im Zeichen eines Zangenangriffs: Mit dem Wiedereinzug Trumps ins Weiße Haus sind die illiberalen Demokratien weiter auf dem Vormarsch und begegnen auf der welthistorischen Bühne den ebenfalls in der Offensive begriffenen Autokratien. Beide charakterisiert\, dass sie nicht von einer ausbalancierten gesellschaftlichen funktionalen Differenzierung ausgehen\, sondern eine Vermachtung und Hierarchisierung der Gesellschaft befördern. Besorgt stimmt\, wie leicht die Siege der Autokraten und der illiberalen Demokratien erscheinen und wie wenig Widerstand eine funktionale Demokratie zu mobilisieren vermag. In diesem Vortrag wird das Spannungsfeld von Kapitalismus und Demokratie ausgeleuchtet und ebenso die doppelte Entfremdung der Gesellschaften von den demokratischen Idealen einerseits und den demokratischen Institutionen andererseits. Es wird untersucht\, wie die Rückeroberung des demokratischen Terrains erfolgen kann und ob gegen Autokraten und illiberale Hasardeure eine Gegenmacht mobilisiert werden kann. \nFreitag\, 4. April\, 19.30–21.30 Uhr\nAnmeldung bis 2.4. unter: aktuelle-themen@forum3.de\n \nAuf Spendenbasis! \nDen Link und die Bankverbindung schicken wir am Vortragsabend gegen 17 Uhr zu.
URL:https://www.forum3.de/kurs/zum-zweiten-mal-trump-und-nun/
CATEGORIES:Vorträge
END:VEVENT
BEGIN:VEVENT
DTSTART;TZID=Europe/Berlin:20250411T200000
DTEND;TZID=Europe/Berlin:20250411T213000
DTSTAMP:20260422T191807
CREATED:20241210T161040Z
LAST-MODIFIED:20250402T160516Z
UID:15762-1744401600-1744407000@www.forum3.de
SUMMARY:FÄLLT AUS! Präsenz: Dirk Kruse – »Lernen\, in der Ewigkeit zu leben«
DESCRIPTION:Wie unser geistiger Weg genügend Tiefe entwickeln kann \nÖffentlicher Schulungs-Üb-Vortrag und Gespräch mit Dirk Kruse\, international tätiger Organisationsberater und Seminarleiter\, Stuttgart\n \nRudolf Steiner wies bereits 1904 auf die wegbahnende\, fundamentale Schutzkraft hin\, die das »Lernen in der Ewigkeit zu leben« bewirkt. Unser unsterbliches Wesen kann uns bewusst und dann verstärkt werden. Wir werden\, wie in einer kristallinen Hülle getragen\, »treu unseren Weg weitergehen können«. Elementarwesen\, Engel und uns verbundene Verstorbene können uns direkter begleiten. Dabei wird unser meditatives Üben seelischer Verfeinerungen\, Verlebendigungen und Erkraftungen von liebevoller Klarheit erfüllt. Hierzu wird in diesem Vortrag auch ein detaillierter Vorblick auf eine mehrjährige »Spirituelle Schulung« gegeben\, die zugleich an diesem Abend beginnt. \nFreitag\, 11. April\, 20.00–21.30 Uhr !\n \nKosten:\nFörderbeitrag € 10/ normal 8/ Rentner*innen 6/ erm. 5/ bis 21 J. 2
URL:https://www.forum3.de/kurs/lernen-in-der-ewigkeit-zu-leben/
CATEGORIES:Vorträge
END:VEVENT
END:VCALENDAR